BEGIN:VCALENDAR
VERSION:2.0
PRODID:-//ChamberMaster//Event Calendar 2.0//EN
METHOD:PUBLISH
X-PUBLISHED-TTL:P3D
REFRESH-INTERVAL:P3D
CALSCALE:GREGORIAN
BEGIN:VEVENT
DTSTART:20220313T190000Z
DTEND:20220313T210000Z
X-MICROSOFT-CDO-ALLDAYEVENT:FALSE
SUMMARY:Education: Project STEP at Shalin Liu
DESCRIPTION:Since 1982\, Boston based Project STEP (String Training Education Program) has provided talented young musicians that identify with historically underrepresented groups in classical music with comprehensive music instruction. Project Step will present a showcase of some of the most talented musicians their program has to offer\, featuring chamber and solo works from the classical cannon.
X-ALT-DESC;FMTTYPE=text/html:<span style="color:rgb(0\, 0\, 0)\; font-family:docs-calibri\; font-size:15px">Since 1982\, Boston based Project STEP (String Training Education Program) has provided talented young musicians that identify with historically underrepresented groups in classical music with comprehensive music instruction. Project Step will present a showcase of some of the most talented musicians their program has to offer\, featuring chamber and solo works from the classical cannon.</span>
LOCATION:Shalin Liu Performance Center 37 Main Street Rockport\, MA 01966
UID:e.2981.21776
SEQUENCE:3
DTSTAMP:20260420T034646Z
URL:http://capeannma.chambermaster.com/events/details/education-project-step-at-shalin-liu-21776
END:VEVENT

END:VCALENDAR
