BEGIN:VCALENDAR
VERSION:2.0
PRODID:-//ChamberMaster//Event Calendar 2.0//EN
METHOD:PUBLISH
X-PUBLISHED-TTL:P3D
REFRESH-INTERVAL:P3D
CALSCALE:GREGORIAN
BEGIN:VEVENT
DTSTART:20251106T223000Z
DTEND:20251107T010000Z
X-MICROSOFT-CDO-ALLDAYEVENT:FALSE
SUMMARY:Appleton Farm Dinner: Talise
DESCRIPTION:Immersive and intimate\, our Farm Dinners highlight the work of our farmers directly\, with the bounty of each harvest brought to life by visiting local chefs. Dine at twilight on the patio of our historic farmhouse\, overlooking the Great Pasture and the rolling organic fields from where your meal was harvested.\n\nAppleton Farms is delighted to announce the return of Gloucester's Talise for our November Farm Dinner. Guests will enjoy a multi-course journey of family-style seasonal dishes under the setting sun on our Farmhouse patio. You won't want to miss the experience of Talise bringing their seaside culinary magic to the farm.\n\n\n\nPop your favorite bottle of wine and enjoy the last nights that summer has to offer with this special meal. BYOB!\n\n\n\nMenu is subject to slight variation depending on the crops of our harvest. Staff gratuity is included in the ticket price.\n\n\n\nAbout Talise:\n\nWe are Joshua and Ariel Smith\, husband and wife team that run Talise\, a seasonal restaurant located in the quaint village of Annisquam\, MA. At Talise\, we work with trusted local farmers and fishermen who supply the ingredients that make up an ever-changing menu. We are grateful to be able to showcase seasonal products\, many of which come from right here in Cape Ann! In 2023\, Chef Mark Lutz joined the Talise team for our fourth season. His passion for sourcing local ingredients   stemming from extensive travels and working in world-class kitchens   instantly resonated with us. We are honored and excited to host our second dinner at Appleton Farms this fall with Mark by our side!
X-ALT-DESC;FMTTYPE=text/html:Immersive and intimate\, our Farm Dinners highlight the work of our farmers directly\, with the bounty of each harvest brought to life by visiting local chefs. Dine at twilight on the patio of our historic farmhouse\, overlooking the Great Pasture and the rolling organic fields from where your meal was harvested.<br />\nAppleton Farms is delighted to announce the return of Gloucester&rsquo\;s Talise for our November Farm Dinner. Guests will enjoy a multi-course journey of family-style seasonal dishes under the setting sun on our Farmhouse patio. You won&rsquo\;t want to miss the experience of Talise bringing their seaside culinary magic to the farm.<br />\n<br />\nPop your favorite bottle of wine and enjoy the last nights that summer has to offer with this special meal. BYOB!<br />\n<br />\nMenu is subject to slight variation depending on the crops of our harvest. Staff gratuity is included in the ticket price.<br />\n<br />\nAbout Talise:<br />\nWe are Joshua and Ariel Smith\, husband and wife team that run Talise\, a seasonal restaurant located in the quaint village of Annisquam\, MA. At Talise\, we work with trusted local farmers and fishermen who supply the ingredients that make up an ever-changing menu. We are grateful to be able to showcase seasonal products\, many of which come from right here in Cape Ann! In 2023\, Chef Mark Lutz joined the Talise team for our fourth season. His passion for sourcing local ingredients &ndash\; stemming from extensive travels and working in world-class kitchens &ndash\; instantly resonated with us. We are honored and excited to host our second dinner at Appleton Farms this fall with Mark by our side!
LOCATION:
UID:e.2981.45116
SEQUENCE:3
DTSTAMP:20260423T045641Z
URL:http://capeannma.chambermaster.com/events/details/appleton-farm-dinner-talise-45116
END:VEVENT

END:VCALENDAR
